BEGIN:VCALENDAR
VERSION:2.0
PRODID:-//Squarespace Inc/Squarespace 6//v6//EN
BEGIN:VEVENT
UID:5d01d3f19834140001a6da06@squarespace.com
DTSTAMP:20190613T050051Z
DTSTART:20190706T020000Z
DTEND:20190706T060000Z
SUMMARY:Yaran Resident BBQ
GEO:-32.285283;115.743392
LOCATION:12-24 Westralia Gardens\, Rockingham\, WA\, 6168\, Australia
END:VEVENT
END:VCALENDAR
